Workbook

Sheet 総括表
B1: 令和6年度 財政状況資料集
B2: 総括表（市町村）
B3: 都道府県名 | L3: 岐阜県 | W3: 市町村類型 | AC3: Ⅱ－２ | AM3: 指定団体等の指定状況 | AY3: 区分 | BN3: 令和6年度(千円) | BV3: 令和5年度(千円) | CD3: 区分 | CT3: 令和6年度(千円･％) | DB3: 令和5年度(千円･％)
AY4: 歳入総額 | BN4: 51242830 | BV4: 51321964 | CD4: 実質収支比率 | CT4: 19.4 | DB4: 19.6
AM5: 財政健全化等 | AU5: × | AY5: 歳出総額 | BN5: 44898346 | BV5: 45243842 | CD5: 経常収支比率 | CT5: 91.6 | DB5: 89.7
B6: 市町村名 | L6: 中津川市 | W6: 地方交付税種地 | AC6: 1-2 | AM6: 財源超過 | AU6: × | AY6: 歳入歳出差引 | BN6: 6344484 | BV6: 6078122 | CD6: (※1) | CT6: 91.9 | DB6: 90.3
AM7: 首都 | AU7: × | AY7: 翌年度に繰越すべき財源 | BN7: 1583543 | BV7: 1335526 | CD7: 標準財政規模 | CT7: 24544160 | DB7: 24215367
AM8: 近畿 | AU8: × | AY8: 実質収支 | BN8: 4760941 | BV8: 4742596 | CD8: 財政力指数 | CT8: 0.49 | DB8: 0.49
B9: 人口 | L9: 令和2年国調(人) | R9: 76570 | W9: 産業構造 (※5) | AM9: 中部 | AU9: ○ | AY9: 単年度収支 | BN9: 18345 | BV9: -554953 | CD9: 公債費負担比率 | CT9: 10.8 | DB9: 11.4
L10: 平成27年国調(人) | R10: 78883 | AM10: 過疎 | AU10: ○ | AY10: 積立金 | BN10: 29342 | BV10: 6926 | CD10: 健全化判断比率
L11: 増減率 (％) | R11: -2.9 | AM11: 山振 | AU11: ○ | AY11: 繰上償還金 | BN11: 0 | BV11: 0 | CD11: 実質赤字比率 | CT11: - | DB11: -
B12: 住民基本台帳人口 (※7) | L12: 令07.01.01(人) | R12: 73535 | W12: 区分 | AC12: 令和2年国調 | AH12: 平成27年国調 | AM12: 低開発 | AU12: × | AY12: 積立金取崩し額 | BN12: 2484000 | BV12: 2190000 | CD12: 連結実質赤字比率 | CT12: - | DB12: -
M13: うち日本人(人) | R13: 70993 | W13: 第1次 | AC13: 1800 | AH13: 2153 | AM13: 指数表選定 | AU13: × | AY13: 実質単年度収支 | BN13: -2436313 | BV13: -2738027 | CD13: 実質公債費比率 | CT13: 7.1 | DB13: 6.9
L14: 令06.01.01(人) | R14: 74532 | AC14: 4.8 | AH14: 5.5 | CD14: 将来負担比率 | CT14: - | DB14: -
M15: うち日本人(人) | R15: 72239 | W15: 第2次 | AC15: 15375 | AH15: 15860 | AY15: 基準財政収入額 | BN15: 10722480 | BV15: 10621496 | CD15: 資金不足比率 (※4)
L16: 増減率 (％) | R16: -1.3 | AC16: 41.1 | AH16: 40.8 | AY16: 基準財政需要額 | BN16: 21699725 | BV16: 21310077
M17: うち日本人(％) | R17: -1.7 | W17: 第3次 | AC17: 20220 | AH17: 20873 | AY17: 標準税収入額等 | BN17: 13477357 | BV17: 13349720
B18: 面積 (k㎡) | L18: 676.45 | AC18: 54.1 | AH18: 53.7 | AY18: 経常経費充当一般財源等 | BN18: 23223187 | BV18: 22114782
B19: 人口密度 (人/k㎡) | L19: 113 | AY19: 歳入一般財源等 | BN19: 35866576 | BV19: 34685005
B20: 世帯数 (世帯) | L20: 29690
B21: 職員の状況 (※8)
B22: 特別職等 | E22: 区分 | L22: 定数 | Q22: 1人あたり平均 給料月額(百円) | W22: 一般職員等(※6) | Z22: 区分 | AH22: 職員数 (人) | AM22: 給料月額 (百円) | AS22: 1人あたり平均 給料月額(百円) | AY22: 地方債現在高 | BN22: 33445086 | BV22: 33973880
AY23: うち公的資金 | BN23: 12985112 | BV23: 14165533
E24: 市区町村長 | L24: 1 | Q24: 9030 | Z24: 一般職員 | AH24: 728 | AM24: 2221856 | AS24: 3052 | AY24: 地方債現在高（臨時財政対策債除き） | BN24: 21891578 | BV24: 21106094
E25: 副市区町村長 | L25: 1 | Q25: 7840 | Z25: うち消防職員 | AH25: 118 | AM25: 348454 | AS25: 2953 | AY25: 債務負担行為額（支出予定額） | BN25: 920488 | BV25: 1915827
E26: 教育長 | L26: 1 | Q26: 6580 | Z26: うち技能労務職員 | AH26: 17 | AM26: 44846 | AS26: 2638 | AY26: 収益事業収入 | BN26: - | BV26: -
E27: 議会議長 | L27: 1 | Q27: 4410 | Z27: 教育公務員 | AH27: 28 | AM27: 106544 | AS27: 3805 | AY27: 土地開発基金現在高 | BN27: - | BV27: -
E28: 議会副議長 | L28: 1 | Q28: 3980 | Z28: 臨時職員 | AH28: - | AM28: - | AS28: - | AY28: 積立金 現在高 | BC28: 財政調整基金 | BN28: 6231193 | BV28: 6485851
E29: 議会議員 | L29: 19 | Q29: 3760 | Z29: 合計 | AH29: 756 | AM29: 2328400 | AS29: 3080 | BC29: 減債基金 | BN29: 1877303 | BV29: 1774588
W30: ラスパイレス指数 | AH30: 98.3 | BC30: その他特定目的基金 | BN30: 12551072 | BV30: 12653426
C32: 一般会計等の一覧 | U32: 事業会計の一覧 | AM32: 公営企業（法適）の一覧 | BE32: 公営企業（法非適）の一覧 | BW32: 関係する一部事務組合等一覧 | CO32: 地方公社・第三セクター等一覧
C33: 項番 | E33: 会計名 | U33: 項番 | W33: 会計名 | AM33: 項番 | AO33: 会計名 | BE33: 項番 | BG33: 会計名 | BW33: 項番 | BY33: 組合等名 | CO33: 項番 | CQ33: 団体名 | DG33: (※3)
C34: =IF(E34="","",1) -> #REF! | E34: =IF(#REF!="","",#REF!) -> #REF! | U34: =IF(W34="","",MAX(C34:D43)+1) -> #REF! | W34: =IF(#REF!="","",#REF!) -> #REF! | AM34: =IF(AO34="","",MAX(C34:D43,U34:V43)+1) -> #REF! | AO34: =IF(#REF!="","",#REF!) -> #REF! | BE34: =IF(BG34="","",MAX(C34:D43,U34:V43,AM34:AN43)+1) | BW34: =IF(BY34="","",MAX(C34:D43,U34:V43,AM34:AN43,BE34:BF43)+1) -> #REF! | BY34: =IF(#REF!="","",#REF!) -> #REF! | CO34: =IF(CQ34="","",MAX(C34:D43,U34:V43,AM34:AN43,BE34:BF43,BW34:BX43)+1) -> #REF! | CQ34: =IF(#REF!="","",#REF!) -> #REF! | DG34: =IF(#REF!="","",#REF!) -> #REF!
C35: =IF(E35="","",C34+1) -> #REF! | E35: =IF(#REF!="","",#REF!) -> #REF! | U35: =IF(W35="","",U34+1) -> #REF! | W35: =IF(#REF!="","",#REF!) -> #REF! | AM35: =IF(AO35="","",AM34+1) -> #REF! | AO35: =IF(#REF!="","",#REF!) -> #REF! | BE35: =IF(BG35="","",BE34+1) | BW35: =IF(BY35="","",BW34+1) -> #REF! | BY35: =IF(#REF!="","",#REF!) -> #REF! | CO35: =IF(CQ35="","",CO34+1) -> #REF! | CQ35: =IF(#REF!="","",#REF!) -> #REF! | DG35: =IF(#REF!="","",#REF!) -> #REF!
C36: =IF(E36="","",C35+1) -> #REF! | E36: =IF(#REF!="","",#REF!) -> #REF! | U36: =IF(W36="","",U35+1) -> #REF! | W36: =IF(#REF!="","",#REF!) -> #REF! | AM36: =IF(AO36="","",AM35+1) -> #REF! | AO36: =IF(#REF!="","",#REF!) -> #REF! | BE36: =IF(BG36="","",BE35+1) | BW36: =IF(BY36="","",BW35+1) -> #REF! | BY36: =IF(#REF!="","",#REF!) -> #REF! | CO36: =IF(CQ36="","",CO35+1) -> #REF! | CQ36: =IF(#REF!="","",#REF!) -> #REF! | DG36: =IF(#REF!="","",#REF!) -> #REF!
C37: =IF(E37="","",C36+1) -> #REF! | E37: =IF(#REF!="","",#REF!) -> #REF! | U37: =IF(W37="","",U36+1) -> #REF! | W37: =IF(#REF!="","",#REF!) -> #REF! | AM37: =IF(AO37="","",AM36+1) | BE37: =IF(BG37="","",BE36+1) | BW37: =IF(BY37="","",BW36+1) -> #REF! | BY37: =IF(#REF!="","",#REF!) -> #REF! | CO37: =IF(CQ37="","",CO36+1) -> #REF! | CQ37: =IF(#REF!="","",#REF!) -> #REF! | DG37: =IF(#REF!="","",#REF!) -> #REF!
C38: =IF(E38="","",C37+1) -> #REF! | E38: =IF(#REF!="","",#REF!) -> #REF! | U38: =IF(W38="","",U37+1) -> #REF! | W38: =IF(#REF!="","",#REF!) -> #REF! | AM38: =IF(AO38="","",AM37+1) | BE38: =IF(BG38="","",BE37+1) | BW38: =IF(BY38="","",BW37+1) -> #REF! | BY38: =IF(#REF!="","",#REF!) -> #REF! | CO38: =IF(CQ38="","",CO37+1) -> #REF! | CQ38: =IF(#REF!="","",#REF!) -> #REF! | DG38: =IF(#REF!="","",#REF!) -> #REF!
C39: =IF(E39="","",C38+1) -> #REF! | E39: =IF(#REF!="","",#REF!) -> #REF! | U39: =IF(W39="","",U38+1) | AM39: =IF(AO39="","",AM38+1) | BE39: =IF(BG39="","",BE38+1) | BW39: =IF(BY39="","",BW38+1) -> #REF! | BY39: =IF(#REF!="","",#REF!) -> #REF! | CO39: =IF(CQ39="","",CO38+1) -> #REF! | CQ39: =IF(#REF!="","",#REF!) -> #REF! | DG39: =IF(#REF!="","",#REF!) -> #REF!
C40: =IF(E40="","",C39+1) -> #REF! | E40: =IF(#REF!="","",#REF!) -> #REF! | U40: =IF(W40="","",U39+1) | AM40: =IF(AO40="","",AM39+1) | BE40: =IF(BG40="","",BE39+1) | BW40: =IF(BY40="","",BW39+1) -> #REF! | BY40: =IF(#REF!="","",#REF!) -> #REF! | CO40: =IF(CQ40="","",CO39+1) -> #REF! | CQ40: =IF(#REF!="","",#REF!) -> #REF! | DG40: =IF(#REF!="","",#REF!) -> #REF!
C41: =IF(E41="","",C40+1) -> #REF! | E41: =IF(#REF!="","",#REF!) -> #REF! | U41: =IF(W41="","",U40+1) | AM41: =IF(AO41="","",AM40+1) | BE41: =IF(BG41="","",BE40+1) | BW41: =IF(BY41="","",BW40+1) -> #REF! | BY41: =IF(#REF!="","",#REF!) -> #REF! | CO41: =IF(CQ41="","",CO40+1) -> #REF! | CQ41: =IF(#REF!="","",#REF!) -> #REF! | DG41: =IF(#REF!="","",#REF!) -> #REF!
...

Sheet 普通会計の状況
DH1: 令和6年度 | DP1: 岐阜県中津川市
B2: (1) 普通会計の状況（市町村）
B3: 歳入の状況（単位 千円・％） | AP3: 地方税の状況（単位 千円・％） | CD3: 歳出の状況（単位 千円・％）
B4: 区分 | R4: 決算額 | Z4: 構成比 | AD4: 経常一般財源等 | AL4: 構成比 | AP4: 区分 | BG4: 収入済額 | BO4: 構成比 | BS4: 超過課税分 | CD4: 目的別歳出の状況（単位 千円・％）
B5: 地方税 | R5: 11201709 | Z5: 21.9 | AD5: 10620597 | AL5: 42 | AP5: 普通税 | BG5: 10588847 | BO5: 94.5 | BS5: 225265 | CD5: 区分 | CR5: 決算額 (A) | CZ5: 構成比 | DD5: (A)のうち普通建設事業費 | DQ5: (A)のうち充当一般財源等
B6: 地方譲与税 | R6: 573225 | Z6: 1.1 | AD6: 573225 | AL6: 2.3 | AP6: 法定普通税 | BG6: 10588847 | BO6: 94.5 | BS6: 225265 | CD6: 議会費 | CR6: 224812 | CZ6: 0.5 | DD6: - | DQ6: 224812
B7: 利子割交付金 | R7: 4350 | Z7: 0 | AD7: 4350 | AL7: 0 | AP7: 市町村民税 | BG7: 4660189 | BO7: 41.6 | BS7: 225265 | CD7: 総務費 | CR7: 4784255 | CZ7: 10.7 | DD7: 582558 | DQ7: 3641768
B8: 配当割交付金 | R8: 92643 | Z8: 0.2 | AD8: 92643 | AL8: 0.4 | AP8: 個人均等割 | BG8: 122522 | BO8: 1.1 | BS8: - | CD8: 民生費 | CR8: 13555332 | CZ8: 30.2 | DD8: 267982 | DQ8: 7872781
B9: 株式等譲渡所得割交付金 | R9: 118922 | Z9: 0.2 | AD9: 118922 | AL9: 0.5 | AP9: 所得割 | BG9: 3510095 | BO9: 31.3 | BS9: - | CD9: 衛生費 | CR9: 5328160 | CZ9: 11.9 | DD9: 1052640 | DQ9: 4173094
B10: 分離課税所得割交付金 | R10: - | Z10: - | AD10: - | AL10: - | AP10: 法人均等割 | BG10: 238571 | BO10: 2.1 | BS10: - | CD10: 労働費 | CR10: 59567 | CZ10: 0.1 | DD10: - | DQ10: 31591
B11: 地方消費税交付金 | R11: 2022151 | Z11: 3.9 | AD11: 2022151 | AL11: 8 | AP11: 法人税割 | BG11: 789001 | BO11: 7 | BS11: 225265 | CD11: 農林水産業費 | CR11: 2727624 | CZ11: 6.1 | DD11: 1368226 | DQ11: 1202849
B12: ゴルフ場利用税交付金 | R12: 35885 | Z12: 0.1 | AD12: 35885 | AL12: 0.1 | AP12: 固定資産税 | BG12: 5109264 | BO12: 45.6 | BS12: - | CD12: 商工費 | CR12: 1090264 | CZ12: 2.4 | DD12: 73645 | DQ12: 772936
B13: 自動車取得税交付金 | R13: 4254 | Z13: 0 | AD13: 4254 | AL13: 0 | AP13: うち純固定資産税 | BG13: 5089306 | BO13: 45.4 | BS13: - | CD13: 土木費 | CR13: 6174931 | CZ13: 13.8 | DD13: 3948229 | DQ13: 2715873
B14: 軽油引取税交付金 | R14: - | Z14: - | AD14: - | AL14: - | AP14: 軽自動車税 | BG14: 331808 | BO14: 3 | BS14: - | CD14: 消防費 | CR14: 1466590 | CZ14: 3.3 | DD14: 140666 | DQ14: 1274643
B15: 自動車税環境性能割交付金 | R15: 72323 | Z15: 0.1 | AD15: 72323 | AL15: 0.3 | AP15: 市町村たばこ税 | BG15: 487586 | BO15: 4.4 | BS15: - | CD15: 教育費 | CR15: 5259701 | CZ15: 11.7 | DD15: 1096239 | DQ15: 3644050
B16: 法人事業税交付金 | R16: 188249 | Z16: 0.4 | AD16: 188249 | AL16: 0.7 | AP16: 鉱産税 | BG16: - | BO16: - | BS16: - | CD16: 災害復旧費 | CR16: 327731 | CZ16: 0.7 | DD16: - | DQ16: 82132
B17: 地方特例交付金等 | R17: 429277 | Z17: 0.8 | AD17: 429277 | AL17: 1.7 | AP17: 特別土地保有税 | BG17: - | BO17: - | BS17: - | CD17: 公債費 | CR17: 3899379 | CZ17: 8.7 | DD17: - | DQ17: 3885563
B18: 住宅借入金等特別税額控除減収補塡特例交付金 | R18: 68010 | Z18: 0.1 | AD18: 68010 | AL18: 0.3 | AP18: 法定外普通税 | BG18: - | BO18: - | BS18: - | CD18: 諸支出金 | CR18: - | CZ18: - | DD18: - | DQ18: -
B19: 定額減税減収補塡特例交付金 | R19: 337706 | Z19: 0.7 | AD19: 337706 | AL19: 1.3 | AP19: 目的税 | BG19: 612862 | BO19: 5.5 | BS19: - | CD19: 前年度繰上充用金 | CR19: - | CZ19: - | DD19: - | DQ19: -
B20: 新型コロナウイルス感染症対策地方税減収補塡特別交付金 | R20: 23561 | Z20: 0 | AD20: 23561 | AL20: 0.1 | AP20: 法定目的税 | BG20: 612862 | BO20: 5.5 | BS20: - | CD20: 歳出合計 | CR20: 44898346 | CZ20: 100 | DD20: 8530185 | DQ20: 29522092
B21: 地方交付税 | R21: 12453289 | Z21: 24.3 | AD21: 10984897 | AL21: 43.4 | AP21: 入湯税 | BG21: 31750 | BO21: 0.3 | BS21: -
B22: 普通交付税 | R22: 10984897 | Z22: 21.4 | AD22: 10984897 | AL22: 43.4 | AP22: 事業所税 | BG22: - | BO22: - | BS22: - | CD22: 性質別歳出の状況（単位 千円・％）
B23: 特別交付税 | R23: 1468392 | Z23: 2.9 | AD23: - | AL23: - | AP23: 都市計画税 | BG23: 581112 | BO23: 5.2 | BS23: - | CD23: 区分 | CR23: 決算額 | CZ23: 構成比 | DD23: 充当一般財源等 | DL23: 経常経費充当一般財源等 | DW23: 経常収支比率
B24: 震災復興特別交付税 | R24: - | Z24: - | AD24: - | AL24: - | AP24: 水利地益税等 | BG24: - | BO24: - | BS24: - | CD24: 義務的経費計 | CR24: 19642348 | CZ24: 43.7 | DD24: 14485031 | DL24: 13218382 | DW24: 52.1
B25: (一般財源計) | R25: 27196277 | Z25: 53.1 | AD25: 25146773 | AL25: 99.5 | AP25: 法定外目的税 | BG25: - | BO25: - | BS25: - | CD25: 人件費 | CR25: 7980410 | CZ25: 17.8 | DD25: 7431738 | DL25: 7409817 | DW25: 29.2
B26: 交通安全対策特別交付金 | R26: 4455 | Z26: 0 | AD26: 4455 | AL26: 0 | AP26: 旧法による税 | BG26: - | BO26: - | BS26: - | CD26: うち職員給 | CR26: 4279739 | CZ26: 9.5 | DD26: 3961099 | DL26: - | DW26: -
B27: 分担金・負担金 | R27: 135195 | Z27: 0.3 | AD27: - | AL27: - | AP27: 合計 | BG27: 11201709 | BO27: 100 | BS27: 225265 | CD27: 扶助費 | CR27: 7762559 | CZ27: 17.3 | DD27: 3167730 | DL27: 1923002 | DW27: 7.6
B28: 使用料 | R28: 273249 | Z28: 0.5 | AD28: 58456 | AL28: 0.2 | CD28: 公債費 | CR28: 3899379 | CZ28: 8.7 | DD28: 3885563 | DL28: 3885563 | DW28: 15.3
B29: 手数料 | R29: 334312 | Z29: 0.7 | AD29: - | AL29: - | CD29: 内訳 | CF29: 元利償還金 | CR29: 3899379 | CZ29: 8.7 | DD29: 3885563 | DL29: 3885563 | DW29: 15.3
B30: 国庫支出金 | R30: 6750033 | Z30: 13.2 | AD30: - | AL30: - | AP30: 区分 | BG30: 令和6年度 | BR30: 令和5年度 | CF30: うち元金 | CR30: 3801900 | CZ30: 8.5 | DD30: 3788236 | DL30: 3788236 | DW30: 14.9
B31: 国有提供交付金(特別区財調交付金) | R31: - | Z31: - | AD31: - | AL31: - | AP31: 徴収率 (％) | AT31: 現年 | AX31: 合計 | BG31: 99.1 | BM31: 97.3 | BR31: 99.1 | BX31: 97.6 | CF31: うち利子 | CR31: 97479 | CZ31: 0.2 | DD31: 97327 | DL31: 97327 | DW31: 0.4
B32: 都道府県支出金 | R32: 3528771 | Z32: 6.9 | AD32: - | AL32: - | AU32: ・計 | AX32: 市町村民税 | BG32: 99 | BM32: 97 | BR32: 98.9 | BX32: 97.1 | CF32: 一時借入金利子 | CR32: - | CZ32: - | DD32: - | DL32: - | DW32: -
B33: 財産収入 | R33: 221143 | Z33: 0.4 | AD33: 44652 | AL33: 0.2 | AX33: 純固定資産税 | BG33: 99.1 | BM33: 97.5 | BR33: 99.3 | BX33: 97.8 | CD33: その他の経費 | CR33: 16398082 | CZ33: 36.5 | DD33: 13027360 | DL33: 10004805 | DW33: 39.4
B34: 寄附金 | R34: 923293 | Z34: 1.8 | AD34: - | AL34: - | CD34: 物件費 | CR34: 6054490 | CZ34: 13.5 | DD34: 4412967 | DL34: 3697920 | DW34: 14.6
B35: 繰入金 | R35: 3627588 | Z35: 7.1 | AD35: - | AL35: - | AQ35: 公営事業等への繰出 | BG35: 国民健康保険事業会計の状況 | CD35: 維持補修費 | CR35: 618925 | CZ35: 1.4 | DD35: 545830 | DL35: 545815 | DW35: 2.2
B36: 繰越金 | R36: 3578122 | Z36: 7 | AD36: - | AL36: - | AQ36: 合計 | AZ36: 6706607 | BG36: 実質収支 | BV36: 549210 | CD36: 補助費等 | CR36: 4684954 | CZ36: 10.4 | DD36: 4018292 | DL36: 2557957 | DW36: 10.1
B37: 諸収入 | R37: 1397286 | Z37: 2.7 | AD37: 28718 | AL37: 0.1 | AQ37: 下水道 | AZ37: 1391607 | BG37: 再差引収支 | BV37: 505699 | CD37: うち一部事務組合負担金 | CR37: 5786 | CZ37: 0 | DD37: 5786 | DL37: 5786 | DW37: 0
B38: 地方債 | R38: 3273106 | Z38: 6.4 | AD38: - | AL38: - | AQ38: 病院 | AZ38: 1028452 | BG38: 加入世帯数(世帯) | BV38: 8090 | CD38: 繰出金 | CR38: 3196591 | CZ38: 7.1 | DD38: 2706407 | DL38: 2459422 | DW38: 9.7
B39: うち減収補塡債(特例分) | R39: - | Z39: - | AD39: - | AL39: - | AQ39: その他 | AZ39: 637888 | BG39: 被保険者数(人) | BV39: 11740 | CD39: 積立金 | CR39: 659060 | CZ39: 1.5 | DD39: 503012 | DL39: - | DW39: -
B40: うち臨時財政対策債 | R40: 81906 | Z40: 0.2 | AD40: - | AL40: - | AQ40: 上水道 | AZ40: 452069 | BG40: 被保険者 1人当り | BM40: 保険税(料)収入額 | BV40: 111 | CD40: 投資・出資金・貸付金 | CR40: 1184062 | CZ40: 2.6 | DD40: 840852 | DL40: 743691 | DW40: 2.9
...

Sheet 各会計、関係団体の財政状況及び健全化判断比率
A2: (2)各会計、関係団体の財政状況及び健全化判断比率（市町村） | DJ2: 令和6年度 | DQ2: 岐阜県中津川市
A4: 一般会計等の財政状況（単位：百万円） | BQ4: 地方公社・第三セクター等の経営状況及び地方公共団体の財政的支援の状況（単位：百万円）
A5: 会計名 | Q5: 歳入 | V5: 歳出 | AA5: 形式収支 | AF5: 実質収支 | AK5: 他会計等 からの 繰入金 | AP5: 地方債 現在高 | AU5: 備考 | BQ5: 地方公社・第三セクター等名 | CH5: 経常損益 | CM5: 純資産又は 正味財産 | CR5: 当該団体 からの 出資金 | CW5: 当該団体 からの 補助金 | DB5: 当該団体 からの 貸付金 | DG5: 当該団体からの債務保証に係る債務残高 | DL5: 当該団体からの損失補償に係る債務残高 | DQ5: 一般会計等 負担見込額 | DV5: 備考
A7: 1 | B7: 一般会計 | Q7: 51250 | V7: 44905 | AA7: 6344 | AF7: 4761 | AK7: 3628 | AP7: 33445 | AU7: 基金から3,440百万円 | BQ7: 1 | BS7: （株）阿木レイクサイド | CH7: 1 | CM7: 11 | CR7: 5 | CW7: - | DB7: - | DG7: - | DL7: - | DQ7: -
A8: 2 | BQ8: 2 | BS8: （一財）椛の湖ふれあい村 | CH8: -1 | CM8: 15 | CR8: 30 | CW8: - | DB8: - | DG8: - | DL8: - | DQ8: -
A9: 3 | BQ9: 3 | BS9: （一財）付知町振興公社 | CH9: 9 | CM9: 72 | CR9: 10 | CW9: - | DB9: - | DG9: - | DL9: - | DQ9: -
A10: 4 | BQ10: 4 | BS10: 山口特産開発（株） | CH10: 8 | CM10: 153 | CR10: 24 | CW10: - | DB10: - | DG10: - | DL10: - | DQ10: -
A11: 5 | BQ11: 5 | BS11: （一財）中津川・恵那地域勤労者福祉サービスセンター | CH11: -1 | CM11: 135 | CR11: 5 | CW11: 9 | DB11: - | DG11: - | DL11: - | DQ11: -
A12: 6 | BQ12: 6 | BS12: （一財）纐纈忠行育英基金 | CH12: -1 | CM12: 229 | CR12: 100 | CW12: - | DB12: - | DG12: - | DL12: - | DQ12: -
A13: 7 | BQ13: 7 | BS13: 明知鉄道（株） | CH13: -125 | CM13: 179 | CR13: 10 | CW13: - | DB13: - | DG13: - | DL13: - | DQ13: -
A14: 8 | BQ14: 8
A15: 9 | BQ15: 9
A16: 10 | BQ16: 10
A17: 11 | BQ17: 11
A18: 12 | BQ18: 12
A19: 13 | BQ19: 13
A20: 14 | BQ20: 14
A21: 15 | BQ21: 15
A22: 16 | AZ22: 実質赤字額 | BQ22: 16
A23: 計 | B23: 一般会計等（純計） | Q23: 51250 | V23: 44905 | AA23: 6344 | AF23: 4761 | AP23: 33445 | AZ23: - | BQ23: 17
A24: ※一般会計等（純計）は、各会計の相互間の繰入・繰出等の重複を控除したものであり、各会計の合計と一致しない場合がある。 | BQ24: 18
A25: 公営企業会計等の財政状況（単位：百万円） | BQ25: 19
A26: 会計名 | Q26: 総収益 （歳入） | V26: 総費用 （歳出） | AA26: 純損益 （形式収支） | AF26: 資金剰余額 /不足額 （実質収支） | AK26: 他会計等 からの 繰入金 | AP26: 企業債 （地方債） 現在高 | AU26: 左のうち 一般会計等 繰入見込額 | AZ26: 資金不足 比率 | BE26: 備考 | BQ26: 20
BQ27: 21
A28: 1 | B28: 国民健康保険事業会計(事業勘定) | Q28: 6997 | V28: 6448 | AA28: 549 | AF28: 549 | AK28: 517 | AP28: - | AU28: - | AZ28: - | BQ28: 22
A29: 2 | B29: 国民健康保険事業会計(直営診療施設勘定) | Q29: 390 | V29: 276 | AA29: 114 | AF29: 114 | AK29: 74 | AP29: 100 | AU29: 26 | AZ29: - | BQ29: 23
A30: 3 | B30: 介護保険事業会計 | Q30: 9355 | V30: 8979 | AA30: 375 | AF30: 375 | AK30: 1340 | AP30: - | AU30: - | AZ30: - | BQ30: 24
A31: 4 | B31: 後期高齢者医療事業会計 | Q31: 1398 | V31: 1358 | AA31: 40 | AF31: 40 | AK31: 292 | AP31: - | AU31: - | AZ31: - | BQ31: 25
A32: 5 | B32: 駅前駐車場事業会計 | Q32: 152 | V32: 19 | AA32: 133 | AF32: 133 | AK32: - | AP32: - | AU32: - | AZ32: - | BQ32: 26
A33: 6 | B33: 水道事業会計 | Q33: 2372 | V33: 2271 | AA33: 101 | AF33: 555 | AK33: 452 | AP33: 3609 | AU33: 1252 | AZ33: - | BE33: 法適用企業 | BQ33: 27
A34: 7 | B34: 病院事業会計 | Q34: 9965 | V34: 10491 | AA34: -526 | AF34: 3047 | AK34: 1666 | AP34: 3951 | AU34: 3264 | AZ34: - | BE34: 法適用企業 | BQ34: 28
A35: 8 | B35: 下水道事業会計 | Q35: 2867 | V35: 2966 | AA35: -99 | AF35: 943 | AK35: 1392 | AP35: 13291 | AU35: 11267 | AZ35: - | BE35: 法適用企業 | BQ35: 29
A36: 9 | BQ36: 30
A37: 10 | BQ37: 31
A38: 11 | BQ38: 32
A39: 12 | BQ39: 33
A40: 13 | BQ40: 34
A41: 14 | BQ41: 35
A42: 15 | BQ42: 36
A43: 16 | BQ43: 37
...

Sheet 財政比較分析表

Sheet 経常経費分析表（経常収支比率の分析）

Sheet 経常経費分析表（人件費・公債費・普通建設事業費の分析）
A5: 人件費及び人件費に準ずる費用の分析
AK6: 人件費及び人件費に準ずる費用
AO7: 当該団体決算額 （千円） | AQ7: 人口1人当たり決算額
AP8: 当該団体（円） | AQ8: 類似団体平均（円） | AR8: 対比（％）
AK9: 人件費 | AO9: 7980410 | AP9: 108525 | AQ9: 80646 | AR9: 34.6
AK10: 一部事務組合負担金（補助費等） | AO10: 342 | AP10: 5 | AQ10: 6637 | AR10: -99.9
AK11: 公営企業（法適）等に対する繰出し（補助費等） | AO11: 142367 | AP11: 1936 | AQ11: 1119 | AR11: 73
AK12: 公営企業（法適）等に対する繰出し（投資及び出資金・貸付金） | AO12: - | AP12: - | AQ12: 8 | AR12: -
AK13: 公営企業（法非適）等に対する繰出し（繰出金） | AO13: 217674 | AP13: 2960 | AQ13: 2502 | AR13: 18.3
AK14: 事業費支弁に係る職員の人件費（投資的経費） | AO14: 219949 | AP14: 2991 | AQ14: 1863 | AR14: 60.5
AK15: ▲退職金 | AO15: -523239 | AP15: -7116 | AQ15: -4800 | AR15: 48.3
AK16: 合計 | AO16: 8037503 | AP16: 109302 | AQ16: 87975 | AR16: 24.2
AK19: 参考
AO20: 当該団体 | AP20: 類似団体平均 | AQ20: 対比（差引）
AK21: 人口1,000人当たり職員数（人） | AO21: 10.28 | AP21: 7.71 | AQ21: 2.57
AK22: ラスパイレス指数 | AO22: 98.3 | AP22: 98.3 | AQ22: 0
A26: （注）人口については、各調査対象年度の1月1日現在の住民基本台帳に登載されている人口に基づいている。
A28: 公債費及び公債費に準ずる費用の分析
AK29: 公債費及び公債費に準ずる費用（実質公債費比率の構成要素）
AO30: 当該団体決算額 （千円） | AQ30: 人口1人当たり決算額
AP31: 当該団体（円） | AQ31: 類似団体平均（円） | AR31: 対比（％）
AK32: 元利償還金の額 （繰上償還額等を除く） | AO32: 3899379 | AP32: 53028 | AQ32: 41451 | AR32: 27.9
AK33: 積立不足額を考慮して算定した額 | AO33: - | AP33: - | AQ33: - | AR33: -
AK34: 満期一括償還地方債の一年当たりの元金償還金に相当するもの （年度割相当額） | AO34: - | AP34: - | AQ34: 35 | AR34: -
AK35: 公営企業に要する経費の財源とする地方債の償還の財源に 充てたと認められる繰入金 | AO35: 1856988 | AP35: 25253 | AQ35: 11775 | AR35: 114.5
AK36: 一部事務組合等の起こした地方債に充てたと認められる 補助金又は負担金 | AO36: - | AP36: - | AQ36: 2188 | AR36: -
AK37: 公債費に準ずる債務負担行為に係るもの | AO37: 257 | AP37: 3 | AQ37: 531 | AR37: -99.4
AK38: 一時借入金利子 （同一団体における会計間の現金運用に係る利子は除く） | AO38: - | AP38: - | AQ38: 1 | AR38: -
AK39: ▲特定財源の額 | AO39: -346416 | AP39: -4711 | AQ39: -5414 | AR39: -13
AK40: ▲地方債に係る元利償還金及び準元利償還金に要する経費として 普通交付税の額の算定に用いる基準財政需要額に算入された額 | AO40: -3979906 | AP40: -54123 | AQ40: -35360 | AR40: 53.1
AK41: 合計 | AO41: 1430302 | AP41: 19451 | AQ41: 15207 | AR41: 27.9
A47: （参考） 普通建設事業費の分析
AK48: 普通建設事業費
AM49: 当該団体決算額 （千円） | AN49: 人口１人当たり決算額
AN50: 当該団体(円) | AO50: 増減率(%)(A) | AP50: 類似団体平均(円) | AQ50: 増減率(%)(B) | AR50: (A)-(B)
AK51: R02 | AM51: 6400234 | AN51: 82776 | AO51: -17.6 | AP51: 63812 | AQ51: 2.3 | AR51: -19.9
AL52: うち単独分 | AM52: 2859378 | AN52: 36981 | AO52: -25.1 | AP52: 33848 | AQ52: -4.2 | AR52: -20.9
AK53: R03 | AM53: 7883162 | AN53: 103253 | AO53: 24.7 | AP53: 54225 | AQ53: -15 | AR53: 39.7
AL54: うち単独分 | AM54: 3693293 | AN54: 48374 | AO54: 30.8 | AP54: 27337 | AQ54: -19.2 | AR54: 50
AK55: R04 | AM55: 7772285 | AN55: 103079 | AO55: -0.2 | AP55: 54016 | AQ55: -0.4 | AR55: 0.2
...

Sheet 性質別歳出決算分析表（住民一人当たりのコスト）

Sheet 目的別歳出決算分析表（住民一人当たりのコスト）

Sheet 実質収支比率等に係る経年分析
J45: 標準財政規模比（％）
B46: 区分 | E46: 年度 | F46: R02 | G46: R03 | H46: R04 | I46: R05 | J46: R06
C47: 財政調整基金残高 | F47: 17.77 | G47: 20.8 | H47: 27.88 | I47: 26.78 | J47: 25.39
C48: 実質収支額 | F48: 18.67 | G48: 22.24 | H48: 22.15 | I48: 19.59 | J48: 19.4
C49: 実質単年度収支 | F49: ▲ 5.94 | G49: ▲ 2.38 | H49: ▲ 6.34 | I49: ▲ 11.31 | J49: ▲ 9.93

Sheet 連結実質赤字比率に係る赤字・黒字の構成分析
J32: 標準財政規模比（％）
B33: 会計 | E33: 年度 | F33: R02 | G33: R03 | H33: R04 | I33: R05 | J33: R06
C34: 一般会計 | F34: 18.66 | G34: 22.23 | H34: 22.14 | I34: 19.58 | J34: 19.39
C35: 病院事業会計 | F35: 6.14 | G35: 9.09 | H35: 13.18 | I35: 12.52 | J35: 12.41
C36: 下水道事業会計 | F36: 0.84 | G36: 2.09 | H36: 3.47 | I36: 3.71 | J36: 3.84
C37: 水道事業会計 | F37: 4.17 | G37: 4.2 | H37: 3.1 | I37: 2.45 | J37: 2.26
C38: 国民健康保険事業会計(事業勘定) | F38: 2.38 | G38: 2.06 | H38: 1.78 | I38: 1.39 | J38: 2.23
C39: 介護保険事業会計 | F39: 0.95 | G39: 1.93 | H39: 2.42 | I39: 2.48 | J39: 1.52
C40: 駅前駐車場事業会計 | F40: 0.44 | G40: 0.44 | H40: 0.48 | I40: 0.51 | J40: 0.54
C41: 国民健康保険事業会計(直営診療施設勘定) | F41: 0.27 | G41: 0.31 | H41: 0.39 | I41: 0.45 | J41: 0.46
C42: その他会計（赤字） | F42: - | G42: - | H42: - | I42: - | J42: -
C43: その他会計（黒字） | F43: 0.09 | G43: 0.09 | H43: 0.13 | I43: 0.12 | J43: 0.16

Sheet 実質公債費比率（分子）の構造 
O43: （百万円）
B44: 分子の構造 | J44: 年度 | K44: R02 | L44: R03 | M44: R04 | N44: R05 | O44: R06
B45: 元利償還金等(A) | E45: 元利償還金 | K45: 3758 | L45: 3826 | M45: 3902 | N45: 3962 | O45: 3899
E46: 減債基金積立不足算定額※2 | K46: - | L46: - | M46: - | N46: - | O46: -
E47: 満期一括償還地方債に係る年度割相当額 | K47: - | L47: - | M47: - | N47: - | O47: -
E48: 公営企業債の元利償還金に対する繰入金 | K48: 2338 | L48: 2047 | M48: 2005 | N48: 1895 | O48: 1857
E49: 組合等が起こした地方債の元利償還金に対する負担金等 | K49: - | L49: - | M49: - | N49: - | O49: -
E50: 債務負担行為に基づく支出額 | K50: 0 | L50: 0 | M50: 0 | N50: 0 | O50: 0
E51: 一時借入金の利子 | K51: - | L51: - | M51: - | N51: - | O51: -
B52: 算入公債費等(B) | E52: 算入公債費等 | K52: 4795 | L52: 4594 | M52: 4422 | N52: 4433 | O52: 4327
B53: (A)－(B) | E53: 実質公債費比率の分子 | K53: 1301 | L53: 1279 | M53: 1485 | N53: 1424 | O53: 1429
B54: ※ 減債基金積立不足算定額=(C)×(１－(D)/(E))
B56: （参考） | O56: （百万円）
J57: 年度 | K57: R02 | L57: R03 | M57: R04 | N57: R05 | O57: R06
B58: 減債基金 積立状況等（注） | D58: 満期一括償還地方債に係る実質償還額又は理論償還額のいずれか少ない額(C) | K58: - | L58: - | M58: - | N58: - | O58: -
D59: 前年度末減債基金残高(D) | K59: - | L59: - | M59: - | N59: - | O59: -
D60: 前年度末減債基金積立相当額(E) | K60: - | L60: - | M60: - | N60: - | O60: -
D61: （注）減債基金のうち、実質公債費比率の算定に用いる満期一括償還地方債の償還の財源に係るもののみを記入。
D62: 減債基金積立金の年度を超えた一般会計又は特別会計への貸付額は控除して記入。

Sheet 将来負担比率（分子）の構造
M39: （百万円）
B40: 分子の構造 | H40: 年度 | I40: R02 | J40: R03 | K40: R04 | L40: R05 | M40: R06
B41: 将来負担額(A) | E41: 一般会計等に係る地方債の現在高 | I41: 34269 | J41: 34000 | K41: 33770 | L41: 33974 | M41: 33445
E42: 債務負担行為に基づく支出予定額 | I42: 828 | J42: 697 | K42: 583 | L42: - | M42: -
E43: 公営企業債等繰入見込額 | I43: 18815 | J43: 16382 | K43: 15408 | L43: 14894 | M43: 15808
E44: 組合等負担等見込額 | I44: - | J44: - | K44: - | L44: - | M44: -
E45: 退職手当負担見込額 | I45: 5714 | J45: 5708 | K45: 5684 | L45: 5823 | M45: 5515
E46: 設立法人等の負債額等負担見込額 | I46: - | J46: 2 | K46: 43 | L46: - | M46: -
E47: うち、健全化法施行規則附則第三条に係る負担見込額 | I47: - | J47: - | K47: - | L47: - | M47: -
E48: 連結実質赤字額 | I48: - | J48: - | K48: - | L48: - | M48: -
E49: 組合等連結実質赤字額負担見込額 | I49: - | J49: - | K49: - | L49: - | M49: -
B50: 充当可能財源等(B) | E50: 充当可能基金 | I50: 15374 | J50: 16897 | K50: 18423 | L50: 18919 | M50: 18664
E51: 充当可能特定歳入 | I51: 4631 | J51: 5171 | K51: 4871 | L51: 5024 | M51: 4576
E52: 基準財政需要額算入見込額 | I52: 40623 | J52: 39537 | K52: 38811 | L52: 37742 | M52: 36128
B53: (A)－(B) | E53: 将来負担比率の分子 | I53: -1003 | J53: -4816 | K53: -6617 | L53: -6994 | M53: -4600

Sheet 基金残高に係る経年分析
H53: （百万円）
B54: 区分 | E54: 年度 | F54: R04 | G54: R05 | H54: R06
C55: 財政調整基金 | F55: 6669 | G55: 6486 | H55: 6231
C56: 減債基金 | F56: 1173 | G56: 1775 | H56: 1877
C57: その他特定目的基金 | F57: 12805 | G57: 12653 | H57: 12551
C58: 地域振興基金 | F58: 4028 | G58: 4028 | H58: 4031
C59: リニア中央新幹線まちづくり基金 | F59: 3493 | G59: 3218 | H59: 3096
C60: 公共施設整備運営基金 | F60: 2481 | G60: 2403 | H60: 2328
C61: 職員退職手当基金 | F61: 1806 | G61: 2007 | H61: 2010
C62: しあわせづくり基金 | F62: 579 | G62: 580 | H62: 587
C63: 基金残高合計 | F63: 20648 | G63: 20914 | H63: 20660

Sheet 公会計指標分析・財政指標組合せ分析表
B41: 将来負担比率及び有形固定資産減価償却率の組合せによる分析
AN42: 分析欄
AN43: 引き続き将来負担比率は発生しておらず、類似団体平均値と比較して低い水準にある。これは公債費負担適正化計画に基づき、「返す以上に借りない」を原則とした取組によるものである。しかし、今後もリニア関連事業をはじめとする大型事業が集中する期間が続くため、地方債の発行・管理を適切に行っていく必要がある。また、有形固定資産減価償却率は上昇傾向にあり、市有財産（施設）運用管理マスタープランに基づき、施設の民間移譲、統廃合を進め、有形固定資産減価償却率の上昇を抑制していく必要がある。 両指標の組み合わせで見ると、類似団体と同様に老朽化が進んでいるものの将来的な公共施設及びインフラ施設の更新に当たって将来の財政負担の余力は相対的に高いものと考えられる。
AN49: ( 参考 ）
BP50: R02 | BX50: R03 | CF50: R04 | CN50: R05 | CV50: R06
AN51: 当該団体値 | BB51: 将来負担比率
BB53: 有形固定資産減価償却率 | BP53: 59.5 | BX53: 61.3 | CF53: 63.1 | CN53: 64.4 | CV53: 66.1
AN55: 類似団体内平均値 | BB55: 将来負担比率 | BP55: 25.1 | BX55: 18 | CF55: 12.7 | CN55: 10 | CV55: 6
BB57: 有形固定資産減価償却率 | BP57: 61 | BX57: 62.2 | CF57: 63.2 | CN57: 64.6 | CV57: 65.9
B63: 将来負担比率及び実質公債費比率の組合せによる分析
AN64: 分析欄
AN65: 実質公債費比率は前年度から0.2ポイント上がり、依然として類似団体内平均値を上回っている。比率が増加した主な要因としては、令和3年度と比較し、元利償還金及び準元利償還金は1.1億円減少したものの、特定財源が1.1億円、元利償還金及び準元利償還金に対する普通交付税算入額が1.5億円それぞれ減額したことが挙げられる。本市では公債費負担適正化計画に基づき、「返す以上に借りない」を原則とした取組を行っているが、今後もリニア関連事業をはじめとした大型事業の推進に伴い、地方債発行額は高水準で推移することが見込まれるため、公債費の状況を注視していく必要がある。 また両指標の組み合わせで見ると、本市は類似団体内平均値と比較して将来の財政負担は相対的に小さく持続可能な財政状況にあるものの、上記でも述べたとおり今後の大型事業等にかかる地方債発行状況によっては実質公債費比率は悪化し、将来負担比率の発生にもつながることが懸念されるため、安定した財政運営のためには適切な地方債の発行・管理が重要となる。
AN71: ( 参考 ）
BP72: R02 | BX72: R03 | CF72: R04 | CN72: R05 | CV72: R06
AN73: 当該団体値 | BB73: 将来負担比率
BB75: 実質公債費比率 | BP75: 7.7 | BX75: 6.6 | CF75: 6.7 | CN75: 6.9 | CV75: 7.1
AN77: 類似団体内平均値 | BB77: 将来負担比率 | BP77: 25.1 | BX77: 18 | CF77: 12.7 | CN77: 10 | CV77: 6
BB79: 実質公債費比率 | BP79: 6.4 | BX79: 6.6 | CF79: 6.6 | CN79: 6.7 | CV79: 6.5

Sheet 施設類型別ストック情報分析表①

Sheet 施設類型別ストック情報分析表②

Sheet データシート
D2: 当該団体(円) | F2: 類似団体内平均(円)
A3: R02 | D3: 82776 | F3: 63812
D4: 36981 | F4: 33848
A5: R03 | D5: 103253 | F5: 54225
D6: 48374 | F6: 27337
A7: R04 | D7: 103079 | F7: 54016
D8: 35931 | F8: 28078
A9: R05 | D9: 140242 | F9: 52786
D10: 47401 | F10: 28742
A11: R06 | D11: 116002 | F11: 58465
D12: 51614 | F12: 34452
D13: 109070 | F13: 56661
D14: 44060 | F14: 30491
A17: 実質収支比率等に係る経年分析
B18: =実質収支比率等に係る経年分析!F$46 -> R02 | C18: =実質収支比率等に係る経年分析!G$46 -> R03 | D18: =実質収支比率等に係る経年分析!H$46 -> R04 | E18: =実質収支比率等に係る経年分析!I$46 -> R05 | F18: =実質収支比率等に係る経年分析!J$46 -> R06
A19: 実質収支額 | B19: =ROUND(VALUE(SUBSTITUTE(実質収支比率等に係る経年分析!F$48,"▲","-")),2) -> 18.67 | C19: =ROUND(VALUE(SUBSTITUTE(実質収支比率等に係る経年分析!G$48,"▲","-")),2) -> 22.24 | D19: =ROUND(VALUE(SUBSTITUTE(実質収支比率等に係る経年分析!H$48,"▲","-")),2) -> 22.15 | E19: =ROUND(VALUE(SUBSTITUTE(実質収支比率等に係る経年分析!I$48,"▲","-")),2) -> 19.59 | F19: =ROUND(VALUE(SUBSTITUTE(実質収支比率等に係る経年分析!J$48,"▲","-")),2) -> 19.4
A20: 財政調整基金残高 | B20: =ROUND(VALUE(SUBSTITUTE(実質収支比率等に係る経年分析!F$47,"▲","-")),2) -> 17.77 | C20: =ROUND(VALUE(SUBSTITUTE(実質収支比率等に係る経年分析!G$47,"▲","-")),2) -> 20.8 | D20: =ROUND(VALUE(SUBSTITUTE(実質収支比率等に係る経年分析!H$47,"▲","-")),2) -> 27.88 | E20: =ROUND(VALUE(SUBSTITUTE(実質収支比率等に係る経年分析!I$47,"▲","-")),2) -> 26.78 | F20: =ROUND(VALUE(SUBSTITUTE(実質収支比率等に係る経年分析!J$47,"▲","-")),2) -> 25.39
A21: 実質単年度収支 | B21: =IF(ISNUMBER(VALUE(SUBSTITUTE(実質収支比率等に係る経年分析!F$49,"▲","-"))),ROUND(VALUE(SUBSTITUTE(実質収支比率等に係る経年分析!F$49,"▲","-")),2),NA()) -> -5.94 | C21: =IF(ISNUMBER(VALUE(SUBSTITUTE(実質収支比率等に係る経年分析!G$49,"▲","-"))),ROUND(VALUE(SUBSTITUTE(実質収支比率等に係る経年分析!G$49,"▲","-")),2),NA()) -> -2.38 | D21: =IF(ISNUMBER(VALUE(SUBSTITUTE(実質収支比率等に係る経年分析!H$49,"▲","-"))),ROUND(VALUE(SUBSTITUTE(実質収支比率等に係る経年分析!H$49,"▲","-")),2),NA()) -> -6.34 | E21: =IF(ISNUMBER(VALUE(SUBSTITUTE(実質収支比率等に係る経年分析!I$49,"▲","-"))),ROUND(VALUE(SUBSTITUTE(実質収支比率等に係る経年分析!I$49,"▲","-")),2),NA()) -> -11.31 | F21: =IF(ISNUMBER(VALUE(SUBSTITUTE(実質収支比率等に係る経年分析!J$49,"▲","-"))),ROUND(VALUE(SUBSTITUTE(実質収支比率等に係る経年分析!J$49,"▲","-")),2),NA()) -> -9.93
A24: 連結実質赤字比率に係る赤字・黒字の構成分析
B25: =連結実質赤字比率に係る赤字・黒字の構成分析!F$33 -> R02 | D25: =連結実質赤字比率に係る赤字・黒字の構成分析!G$33 -> R03 | F25: =連結実質赤字比率に係る赤字・黒字の構成分析!H$33 -> R04 | H25: =連結実質赤字比率に係る赤字・黒字の構成分析!I$33 -> R05 | J25: =連結実質赤字比率に係る赤字・黒字の構成分析!J$33 -> R06
B26: 赤字額 | C26: 黒字額 | D26: 赤字額 | E26: 黒字額 | F26: 赤字額 | G26: 黒字額 | H26: 赤字額 | I26: 黒字額 | J26: 赤字額 | K26: 黒字額
A27: =IF(連結実質赤字比率に係る赤字・黒字の構成分析!C$43="",NA(),連結実質赤字比率に係る赤字・黒字の構成分析!C$43) -> その他会計（黒字） | B27: =IF(ROUND(VALUE(SUBSTITUTE(連結実質赤字比率に係る赤字・黒字の構成分析!F$43,"▲", "-")), 2) < 0, ABS(ROUND(VALUE(SUBSTITUTE(連結実質赤字比率に係る赤字・黒字の構成分析!F$43,"▲", "-")), 2)), NA()) -> #N/A | C27: =IF(ROUND(VALUE(SUBSTITUTE(連結実質赤字比率に係る赤字・黒字の構成分析!F$43,"▲", "-")), 2) >= 0, ABS(ROUND(VALUE(SUBSTITUTE(連結実質赤字比率に係る赤字・黒字の構成分析!F$43,"▲", "-")), 2)), NA()) -> 0.09 | D27: =IF(ROUND(VALUE(SUBSTITUTE(連結実質赤字比率に係る赤字・黒字の構成分析!G$43,"▲", "-")), 2) < 0, ABS(ROUND(VALUE(SUBSTITUTE(連結実質赤字比率に係る赤字・黒字の構成分析!G$43,"▲", "-")), 2)), NA()) -> #N/A | E27: =IF(ROUND(VALUE(SUBSTITUTE(連結実質赤字比率に係る赤字・黒字の構成分析!G$43,"▲", "-")), 2) >= 0, ABS(ROUND(VALUE(SUBSTITUTE(連結実質赤字比率に係る赤字・黒字の構成分析!G$43,"▲", "-")), 2)), NA()) -> 0.09 | F27: =IF(ROUND(VALUE(SUBSTITUTE(連結実質赤字比率に係る赤字・黒字の構成分析!H$43,"▲", "-")), 2) < 0, ABS(ROUND(VALUE(SUBSTITUTE(連結実質赤字比率に係る赤字・黒字の構成分析!H$43,"▲", "-")), 2)), NA()) -> #N/A | G27: =IF(ROUND(VALUE(SUBSTITUTE(連結実質赤字比率に係る赤字・黒字の構成分析!H$43,"▲", "-")), 2) >= 0, ABS(ROUND(VALUE(SUBSTITUTE(連結実質赤字比率に係る赤字・黒字の構成分析!H$43,"▲", "-")), 2)), NA()) -> 0.13 | H27: =IF(ROUND(VALUE(SUBSTITUTE(連結実質赤字比率に係る赤字・黒字の構成分析!I$43,"▲", "-")), 2) < 0, ABS(ROUND(VALUE(SUBSTITUTE(連結実質赤字比率に係る赤字・黒字の構成分析!I$43,"▲", "-")), 2)), NA()) -> #N/A | I27: =IF(ROUND(VALUE(SUBSTITUTE(連結実質赤字比率に係る赤字・黒字の構成分析!I$43,"▲", "-")), 2) >= 0, ABS(ROUND(VALUE(SUBSTITUTE(連結実質赤字比率に係る赤字・黒字の構成分析!I$43,"▲", "-")), 2)), NA()) -> 0.12 | J27: =IF(ROUND(VALUE(SUBSTITUTE(連結実質赤字比率に係る赤字・黒字の構成分析!J$43,"▲", "-")), 2) < 0, ABS(ROUND(VALUE(SUBSTITUTE(連結実質赤字比率に係る赤字・黒字の構成分析!J$43,"▲", "-")), 2)), NA()) -> #N/A | K27: =IF(ROUND(VALUE(SUBSTITUTE(連結実質赤字比率に係る赤字・黒字の構成分析!J$43,"▲", "-")), 2) >= 0, ABS(ROUND(VALUE(SUBSTITUTE(連結実質赤字比率に係る赤字・黒字の構成分析!J$43,"▲", "-")), 2)), NA()) -> 0.16
A28: =IF(連結実質赤字比率に係る赤字・黒字の構成分析!C$42="",NA(),連結実質赤字比率に係る赤字・黒字の構成分析!C$42) -> その他会計（赤字） | B28: =IF(ROUND(VALUE(SUBSTITUTE(連結実質赤字比率に係る赤字・黒字の構成分析!F$42,"▲", "-")), 2) < 0, ABS(ROUND(VALUE(SUBSTITUTE(連結実質赤字比率に係る赤字・黒字の構成分析!F$42,"▲", "-")), 2)), NA()) -> #VALUE! | C28: =IF(ROUND(VALUE(SUBSTITUTE(連結実質赤字比率に係る赤字・黒字の構成分析!F$42,"▲", "-")), 2) >= 0, ABS(ROUND(VALUE(SUBSTITUTE(連結実質赤字比率に係る赤字・黒字の構成分析!F$42,"▲", "-")), 2)), NA()) -> #VALUE! | D28: =IF(ROUND(VALUE(SUBSTITUTE(連結実質赤字比率に係る赤字・黒字の構成分析!G$42,"▲", "-")), 2) < 0, ABS(ROUND(VALUE(SUBSTITUTE(連結実質赤字比率に係る赤字・黒字の構成分析!G$42,"▲", "-")), 2)), NA()) -> #VALUE! | E28: =IF(ROUND(VALUE(SUBSTITUTE(連結実質赤字比率に係る赤字・黒字の構成分析!G$42,"▲", "-")), 2) >= 0, ABS(ROUND(VALUE(SUBSTITUTE(連結実質赤字比率に係る赤字・黒字の構成分析!G$42,"▲", "-")), 2)), NA()) -> #VALUE! | F28: =IF(ROUND(VALUE(SUBSTITUTE(連結実質赤字比率に係る赤字・黒字の構成分析!H$42,"▲", "-")), 2) < 0, ABS(ROUND(VALUE(SUBSTITUTE(連結実質赤字比率に係る赤字・黒字の構成分析!H$42,"▲", "-")), 2)), NA()) -> #VALUE! | G28: =IF(ROUND(VALUE(SUBSTITUTE(連結実質赤字比率に係る赤字・黒字の構成分析!H$42,"▲", "-")), 2) >= 0, ABS(ROUND(VALUE(SUBSTITUTE(連結実質赤字比率に係る赤字・黒字の構成分析!H$42,"▲", "-")), 2)), NA()) -> #VALUE! | H28: =IF(ROUND(VALUE(SUBSTITUTE(連結実質赤字比率に係る赤字・黒字の構成分析!I$42,"▲", "-")), 2) < 0, ABS(ROUND(VALUE(SUBSTITUTE(連結実質赤字比率に係る赤字・黒字の構成分析!I$42,"▲", "-")), 2)), NA()) -> #VALUE! | I28: =IF(ROUND(VALUE(SUBSTITUTE(連結実質赤字比率に係る赤字・黒字の構成分析!I$42,"▲", "-")), 2) >= 0, ABS(ROUND(VALUE(SUBSTITUTE(連結実質赤字比率に係る赤字・黒字の構成分析!I$42,"▲", "-")), 2)), NA()) -> #VALUE! | J28: =IF(ROUND(VALUE(SUBSTITUTE(連結実質赤字比率に係る赤字・黒字の構成分析!J$42,"▲", "-")), 2) < 0, ABS(ROUND(VALUE(SUBSTITUTE(連結実質赤字比率に係る赤字・黒字の構成分析!J$42,"▲", "-")), 2)), NA()) -> #VALUE! | K28: =IF(ROUND(VALUE(SUBSTITUTE(連結実質赤字比率に係る赤字・黒字の構成分析!J$42,"▲", "-")), 2) >= 0, ABS(ROUND(VALUE(SUBSTITUTE(連結実質赤字比率に係る赤字・黒字の構成分析!J$42,"▲", "-")), 2)), NA()) -> #VALUE!
A29: =IF(連結実質赤字比率に係る赤字・黒字の構成分析!C$41="",NA(),連結実質赤字比率に係る赤字・黒字の構成分析!C$41) -> 国民健康保険事業会計(直営診療施設勘定) | B29: =IF(ROUND(VALUE(SUBSTITUTE(連結実質赤字比率に係る赤字・黒字の構成分析!F$41,"▲", "-")), 2) < 0, ABS(ROUND(VALUE(SUBSTITUTE(連結実質赤字比率に係る赤字・黒字の構成分析!F$41,"▲", "-")), 2)), NA()) -> #N/A | C29: =IF(ROUND(VALUE(SUBSTITUTE(連結実質赤字比率に係る赤字・黒字の構成分析!F$41,"▲", "-")), 2) >= 0, ABS(ROUND(VALUE(SUBSTITUTE(連結実質赤字比率に係る赤字・黒字の構成分析!F$41,"▲", "-")), 2)), NA()) -> 0.27 | D29: =IF(ROUND(VALUE(SUBSTITUTE(連結実質赤字比率に係る赤字・黒字の構成分析!G$41,"▲", "-")), 2) < 0, ABS(ROUND(VALUE(SUBSTITUTE(連結実質赤字比率に係る赤字・黒字の構成分析!G$41,"▲", "-")), 2)), NA()) -> #N/A | E29: =IF(ROUND(VALUE(SUBSTITUTE(連結実質赤字比率に係る赤字・黒字の構成分析!G$41,"▲", "-")), 2) >= 0, ABS(ROUND(VALUE(SUBSTITUTE(連結実質赤字比率に係る赤字・黒字の構成分析!G$41,"▲", "-")), 2)), NA()) -> 0.31 | F29: =IF(ROUND(VALUE(SUBSTITUTE(連結実質赤字比率に係る赤字・黒字の構成分析!H$41,"▲", "-")), 2) < 0, ABS(ROUND(VALUE(SUBSTITUTE(連結実質赤字比率に係る赤字・黒字の構成分析!H$41,"▲", "-")), 2)), NA()) -> #N/A | G29: =IF(ROUND(VALUE(SUBSTITUTE(連結実質赤字比率に係る赤字・黒字の構成分析!H$41,"▲", "-")), 2) >= 0, ABS(ROUND(VALUE(SUBSTITUTE(連結実質赤字比率に係る赤字・黒字の構成分析!H$41,"▲", "-")), 2)), NA()) -> 0.39 | H29: =IF(ROUND(VALUE(SUBSTITUTE(連結実質赤字比率に係る赤字・黒字の構成分析!I$41,"▲", "-")), 2) < 0, ABS(ROUND(VALUE(SUBSTITUTE(連結実質赤字比率に係る赤字・黒字の構成分析!I$41,"▲", "-")), 2)), NA()) -> #N/A | I29: =IF(ROUND(VALUE(SUBSTITUTE(連結実質赤字比率に係る赤字・黒字の構成分析!I$41,"▲", "-")), 2) >= 0, ABS(ROUND(VALUE(SUBSTITUTE(連結実質赤字比率に係る赤字・黒字の構成分析!I$41,"▲", "-")), 2)), NA()) -> 0.45 | J29: =IF(ROUND(VALUE(SUBSTITUTE(連結実質赤字比率に係る赤字・黒字の構成分析!J$41,"▲", "-")), 2) < 0, ABS(ROUND(VALUE(SUBSTITUTE(連結実質赤字比率に係る赤字・黒字の構成分析!J$41,"▲", "-")), 2)), NA()) -> #N/A | K29: =IF(ROUND(VALUE(SUBSTITUTE(連結実質赤字比率に係る赤字・黒字の構成分析!J$41,"▲", "-")), 2) >= 0, ABS(ROUND(VALUE(SUBSTITUTE(連結実質赤字比率に係る赤字・黒字の構成分析!J$41,"▲", "-")), 2)), NA()) -> 0.46
A30: =IF(連結実質赤字比率に係る赤字・黒字の構成分析!C$40="",NA(),連結実質赤字比率に係る赤字・黒字の構成分析!C$40) -> 駅前駐車場事業会計 | B30: =IF(ROUND(VALUE(SUBSTITUTE(連結実質赤字比率に係る赤字・黒字の構成分析!F$40,"▲", "-")), 2) < 0, ABS(ROUND(VALUE(SUBSTITUTE(連結実質赤字比率に係る赤字・黒字の構成分析!F$40,"▲", "-")), 2)), NA()) -> #N/A | C30: =IF(ROUND(VALUE(SUBSTITUTE(連結実質赤字比率に係る赤字・黒字の構成分析!F$40,"▲", "-")), 2) >= 0, ABS(ROUND(VALUE(SUBSTITUTE(連結実質赤字比率に係る赤字・黒字の構成分析!F$40,"▲", "-")), 2)), NA()) -> 0.44 | D30: =IF(ROUND(VALUE(SUBSTITUTE(連結実質赤字比率に係る赤字・黒字の構成分析!G$40,"▲", "-")), 2) < 0, ABS(ROUND(VALUE(SUBSTITUTE(連結実質赤字比率に係る赤字・黒字の構成分析!G$40,"▲", "-")), 2)), NA()) -> #N/A | E30: =IF(ROUND(VALUE(SUBSTITUTE(連結実質赤字比率に係る赤字・黒字の構成分析!G$40,"▲", "-")), 2) >= 0, ABS(ROUND(VALUE(SUBSTITUTE(連結実質赤字比率に係る赤字・黒字の構成分析!G$40,"▲", "-")), 2)), NA()) -> 0.44 | F30: =IF(ROUND(VALUE(SUBSTITUTE(連結実質赤字比率に係る赤字・黒字の構成分析!H$40,"▲", "-")), 2) < 0, ABS(ROUND(VALUE(SUBSTITUTE(連結実質赤字比率に係る赤字・黒字の構成分析!H$40,"▲", "-")), 2)), NA()) -> #N/A | G30: =IF(ROUND(VALUE(SUBSTITUTE(連結実質赤字比率に係る赤字・黒字の構成分析!H$40,"▲", "-")), 2) >= 0, ABS(ROUND(VALUE(SUBSTITUTE(連結実質赤字比率に係る赤字・黒字の構成分析!H$40,"▲", "-")), 2)), NA()) -> 0.48 | H30: =IF(ROUND(VALUE(SUBSTITUTE(連結実質赤字比率に係る赤字・黒字の構成分析!I$40,"▲", "-")), 2) < 0, ABS(ROUND(VALUE(SUBSTITUTE(連結実質赤字比率に係る赤字・黒字の構成分析!I$40,"▲", "-")), 2)), NA()) -> #N/A | I30: =IF(ROUND(VALUE(SUBSTITUTE(連結実質赤字比率に係る赤字・黒字の構成分析!I$40,"▲", "-")), 2) >= 0, ABS(ROUND(VALUE(SUBSTITUTE(連結実質赤字比率に係る赤字・黒字の構成分析!I$40,"▲", "-")), 2)), NA()) -> 0.51 | J30: =IF(ROUND(VALUE(SUBSTITUTE(連結実質赤字比率に係る赤字・黒字の構成分析!J$40,"▲", "-")), 2) < 0, ABS(ROUND(VALUE(SUBSTITUTE(連結実質赤字比率に係る赤字・黒字の構成分析!J$40,"▲", "-")), 2)), NA()) -> #N/A | K30: =IF(ROUND(VALUE(SUBSTITUTE(連結実質赤字比率に係る赤字・黒字の構成分析!J$40,"▲", "-")), 2) >= 0, ABS(ROUND(VALUE(SUBSTITUTE(連結実質赤字比率に係る赤字・黒字の構成分析!J$40,"▲", "-")), 2)), NA()) -> 0.54
A31: =IF(連結実質赤字比率に係る赤字・黒字の構成分析!C$39="",NA(),連結実質赤字比率に係る赤字・黒字の構成分析!C$39) -> 介護保険事業会計 | B31: =IF(ROUND(VALUE(SUBSTITUTE(連結実質赤字比率に係る赤字・黒字の構成分析!F$39,"▲", "-")), 2) < 0, ABS(ROUND(VALUE(SUBSTITUTE(連結実質赤字比率に係る赤字・黒字の構成分析!F$39,"▲", "-")), 2)), NA()) -> #N/A | C31: =IF(ROUND(VALUE(SUBSTITUTE(連結実質赤字比率に係る赤字・黒字の構成分析!F$39,"▲", "-")), 2) >= 0, ABS(ROUND(VALUE(SUBSTITUTE(連結実質赤字比率に係る赤字・黒字の構成分析!F$39,"▲", "-")), 2)), NA()) -> 0.95 | D31: =IF(ROUND(VALUE(SUBSTITUTE(連結実質赤字比率に係る赤字・黒字の構成分析!G$39,"▲", "-")), 2) < 0, ABS(ROUND(VALUE(SUBSTITUTE(連結実質赤字比率に係る赤字・黒字の構成分析!G$39,"▲", "-")), 2)), NA()) -> #N/A | E31: =IF(ROUND(VALUE(SUBSTITUTE(連結実質赤字比率に係る赤字・黒字の構成分析!G$39,"▲", "-")), 2) >= 0, ABS(ROUND(VALUE(SUBSTITUTE(連結実質赤字比率に係る赤字・黒字の構成分析!G$39,"▲", "-")), 2)), NA()) -> 1.93 | F31: =IF(ROUND(VALUE(SUBSTITUTE(連結実質赤字比率に係る赤字・黒字の構成分析!H$39,"▲", "-")), 2) < 0, ABS(ROUND(VALUE(SUBSTITUTE(連結実質赤字比率に係る赤字・黒字の構成分析!H$39,"▲", "-")), 2)), NA()) -> #N/A | G31: =IF(ROUND(VALUE(SUBSTITUTE(連結実質赤字比率に係る赤字・黒字の構成分析!H$39,"▲", "-")), 2) >= 0, ABS(ROUND(VALUE(SUBSTITUTE(連結実質赤字比率に係る赤字・黒字の構成分析!H$39,"▲", "-")), 2)), NA()) -> 2.42 | H31: =IF(ROUND(VALUE(SUBSTITUTE(連結実質赤字比率に係る赤字・黒字の構成分析!I$39,"▲", "-")), 2) < 0, ABS(ROUND(VALUE(SUBSTITUTE(連結実質赤字比率に係る赤字・黒字の構成分析!I$39,"▲", "-")), 2)), NA()) -> #N/A | I31: =IF(ROUND(VALUE(SUBSTITUTE(連結実質赤字比率に係る赤字・黒字の構成分析!I$39,"▲", "-")), 2) >= 0, ABS(ROUND(VALUE(SUBSTITUTE(連結実質赤字比率に係る赤字・黒字の構成分析!I$39,"▲", "-")), 2)), NA()) -> 2.48 | J31: =IF(ROUND(VALUE(SUBSTITUTE(連結実質赤字比率に係る赤字・黒字の構成分析!J$39,"▲", "-")), 2) < 0, ABS(ROUND(VALUE(SUBSTITUTE(連結実質赤字比率に係る赤字・黒字の構成分析!J$39,"▲", "-")), 2)), NA()) -> #N/A | K31: =IF(ROUND(VALUE(SUBSTITUTE(連結実質赤字比率に係る赤字・黒字の構成分析!J$39,"▲", "-")), 2) >= 0, ABS(ROUND(VALUE(SUBSTITUTE(連結実質赤字比率に係る赤字・黒字の構成分析!J$39,"▲", "-")), 2)), NA()) -> 1.52
A32: =IF(連結実質赤字比率に係る赤字・黒字の構成分析!C$38="",NA(),連結実質赤字比率に係る赤字・黒字の構成分析!C$38) -> 国民健康保険事業会計(事業勘定) | B32: =IF(ROUND(VALUE(SUBSTITUTE(連結実質赤字比率に係る赤字・黒字の構成分析!F$38,"▲", "-")), 2) < 0, ABS(ROUND(VALUE(SUBSTITUTE(連結実質赤字比率に係る赤字・黒字の構成分析!F$38,"▲", "-")), 2)), NA()) -> #N/A | C32: =IF(ROUND(VALUE(SUBSTITUTE(連結実質赤字比率に係る赤字・黒字の構成分析!F$38,"▲", "-")), 2) >= 0, ABS(ROUND(VALUE(SUBSTITUTE(連結実質赤字比率に係る赤字・黒字の構成分析!F$38,"▲", "-")), 2)), NA()) -> 2.38 | D32: =IF(ROUND(VALUE(SUBSTITUTE(連結実質赤字比率に係る赤字・黒字の構成分析!G$38,"▲", "-")), 2) < 0, ABS(ROUND(VALUE(SUBSTITUTE(連結実質赤字比率に係る赤字・黒字の構成分析!G$38,"▲", "-")), 2)), NA()) -> #N/A | E32: =IF(ROUND(VALUE(SUBSTITUTE(連結実質赤字比率に係る赤字・黒字の構成分析!G$38,"▲", "-")), 2) >= 0, ABS(ROUND(VALUE(SUBSTITUTE(連結実質赤字比率に係る赤字・黒字の構成分析!G$38,"▲", "-")), 2)), NA()) -> 2.06 | F32: =IF(ROUND(VALUE(SUBSTITUTE(連結実質赤字比率に係る赤字・黒字の構成分析!H$38,"▲", "-")), 2) < 0, ABS(ROUND(VALUE(SUBSTITUTE(連結実質赤字比率に係る赤字・黒字の構成分析!H$38,"▲", "-")), 2)), NA()) -> #N/A | G32: =IF(ROUND(VALUE(SUBSTITUTE(連結実質赤字比率に係る赤字・黒字の構成分析!H$38,"▲", "-")), 2) >= 0, ABS(ROUND(VALUE(SUBSTITUTE(連結実質赤字比率に係る赤字・黒字の構成分析!H$38,"▲", "-")), 2)), NA()) -> 1.78 | H32: =IF(ROUND(VALUE(SUBSTITUTE(連結実質赤字比率に係る赤字・黒字の構成分析!I$38,"▲", "-")), 2) < 0, ABS(ROUND(VALUE(SUBSTITUTE(連結実質赤字比率に係る赤字・黒字の構成分析!I$38,"▲", "-")), 2)), NA()) -> #N/A | I32: =IF(ROUND(VALUE(SUBSTITUTE(連結実質赤字比率に係る赤字・黒字の構成分析!I$38,"▲", "-")), 2) >= 0, ABS(ROUND(VALUE(SUBSTITUTE(連結実質赤字比率に係る赤字・黒字の構成分析!I$38,"▲", "-")), 2)), NA()) -> 1.39 | J32: =IF(ROUND(VALUE(SUBSTITUTE(連結実質赤字比率に係る赤字・黒字の構成分析!J$38,"▲", "-")), 2) < 0, ABS(ROUND(VALUE(SUBSTITUTE(連結実質赤字比率に係る赤字・黒字の構成分析!J$38,"▲", "-")), 2)), NA()) -> #N/A | K32: =IF(ROUND(VALUE(SUBSTITUTE(連結実質赤字比率に係る赤字・黒字の構成分析!J$38,"▲", "-")), 2) >= 0, ABS(ROUND(VALUE(SUBSTITUTE(連結実質赤字比率に係る赤字・黒字の構成分析!J$38,"▲", "-")), 2)), NA()) -> 2.23
A33: =IF(連結実質赤字比率に係る赤字・黒字の構成分析!C$37="",NA(),連結実質赤字比率に係る赤字・黒字の構成分析!C$37) -> 水道事業会計 | B33: =IF(ROUND(VALUE(SUBSTITUTE(連結実質赤字比率に係る赤字・黒字の構成分析!F$37,"▲", "-")), 2) < 0, ABS(ROUND(VALUE(SUBSTITUTE(連結実質赤字比率に係る赤字・黒字の構成分析!F$37,"▲", "-")), 2)), NA()) -> #N/A | C33: =IF(ROUND(VALUE(SUBSTITUTE(連結実質赤字比率に係る赤字・黒字の構成分析!F$37,"▲", "-")), 2) >= 0, ABS(ROUND(VALUE(SUBSTITUTE(連結実質赤字比率に係る赤字・黒字の構成分析!F$37,"▲", "-")), 2)), NA()) -> 4.17 | D33: =IF(ROUND(VALUE(SUBSTITUTE(連結実質赤字比率に係る赤字・黒字の構成分析!G$37,"▲", "-")), 2) < 0, ABS(ROUND(VALUE(SUBSTITUTE(連結実質赤字比率に係る赤字・黒字の構成分析!G$37,"▲", "-")), 2)), NA()) -> #N/A | E33: =IF(ROUND(VALUE(SUBSTITUTE(連結実質赤字比率に係る赤字・黒字の構成分析!G$37,"▲", "-")), 2) >= 0, ABS(ROUND(VALUE(SUBSTITUTE(連結実質赤字比率に係る赤字・黒字の構成分析!G$37,"▲", "-")), 2)), NA()) -> 4.2 | F33: =IF(ROUND(VALUE(SUBSTITUTE(連結実質赤字比率に係る赤字・黒字の構成分析!H$37,"▲", "-")), 2) < 0, ABS(ROUND(VALUE(SUBSTITUTE(連結実質赤字比率に係る赤字・黒字の構成分析!H$37,"▲", "-")), 2)), NA()) -> #N/A | G33: =IF(ROUND(VALUE(SUBSTITUTE(連結実質赤字比率に係る赤字・黒字の構成分析!H$37,"▲", "-")), 2) >= 0, ABS(ROUND(VALUE(SUBSTITUTE(連結実質赤字比率に係る赤字・黒字の構成分析!H$37,"▲", "-")), 2)), NA()) -> 3.1 | H33: =IF(ROUND(VALUE(SUBSTITUTE(連結実質赤字比率に係る赤字・黒字の構成分析!I$37,"▲", "-")), 2) < 0, ABS(ROUND(VALUE(SUBSTITUTE(連結実質赤字比率に係る赤字・黒字の構成分析!I$37,"▲", "-")), 2)), NA()) -> #N/A | I33: =IF(ROUND(VALUE(SUBSTITUTE(連結実質赤字比率に係る赤字・黒字の構成分析!I$37,"▲", "-")), 2) >= 0, ABS(ROUND(VALUE(SUBSTITUTE(連結実質赤字比率に係る赤字・黒字の構成分析!I$37,"▲", "-")), 2)), NA()) -> 2.45 | J33: =IF(ROUND(VALUE(SUBSTITUTE(連結実質赤字比率に係る赤字・黒字の構成分析!J$37,"▲", "-")), 2) < 0, ABS(ROUND(VALUE(SUBSTITUTE(連結実質赤字比率に係る赤字・黒字の構成分析!J$37,"▲", "-")), 2)), NA()) -> #N/A | K33: =IF(ROUND(VALUE(SUBSTITUTE(連結実質赤字比率に係る赤字・黒字の構成分析!J$37,"▲", "-")), 2) >= 0, ABS(ROUND(VALUE(SUBSTITUTE(連結実質赤字比率に係る赤字・黒字の構成分析!J$37,"▲", "-")), 2)), NA()) -> 2.26
A34: =IF(連結実質赤字比率に係る赤字・黒字の構成分析!C$36="",NA(),連結実質赤字比率に係る赤字・黒字の構成分析!C$36) -> 下水道事業会計 | B34: =IF(ROUND(VALUE(SUBSTITUTE(連結実質赤字比率に係る赤字・黒字の構成分析!F$36,"▲", "-")), 2) < 0, ABS(ROUND(VALUE(SUBSTITUTE(連結実質赤字比率に係る赤字・黒字の構成分析!F$36,"▲", "-")), 2)), NA()) -> #N/A | C34: =IF(ROUND(VALUE(SUBSTITUTE(連結実質赤字比率に係る赤字・黒字の構成分析!F$36,"▲", "-")), 2) >= 0, ABS(ROUND(VALUE(SUBSTITUTE(連結実質赤字比率に係る赤字・黒字の構成分析!F$36,"▲", "-")), 2)), NA()) -> 0.84 | D34: =IF(ROUND(VALUE(SUBSTITUTE(連結実質赤字比率に係る赤字・黒字の構成分析!G$36,"▲", "-")), 2) < 0, ABS(ROUND(VALUE(SUBSTITUTE(連結実質赤字比率に係る赤字・黒字の構成分析!G$36,"▲", "-")), 2)), NA()) -> #N/A | E34: =IF(ROUND(VALUE(SUBSTITUTE(連結実質赤字比率に係る赤字・黒字の構成分析!G$36,"▲", "-")), 2) >= 0, ABS(ROUND(VALUE(SUBSTITUTE(連結実質赤字比率に係る赤字・黒字の構成分析!G$36,"▲", "-")), 2)), NA()) -> 2.09 | F34: =IF(ROUND(VALUE(SUBSTITUTE(連結実質赤字比率に係る赤字・黒字の構成分析!H$36,"▲", "-")), 2) < 0, ABS(ROUND(VALUE(SUBSTITUTE(連結実質赤字比率に係る赤字・黒字の構成分析!H$36,"▲", "-")), 2)), NA()) -> #N/A | G34: =IF(ROUND(VALUE(SUBSTITUTE(連結実質赤字比率に係る赤字・黒字の構成分析!H$36,"▲", "-")), 2) >= 0, ABS(ROUND(VALUE(SUBSTITUTE(連結実質赤字比率に係る赤字・黒字の構成分析!H$36,"▲", "-")), 2)), NA()) -> 3.47 | H34: =IF(ROUND(VALUE(SUBSTITUTE(連結実質赤字比率に係る赤字・黒字の構成分析!I$36,"▲", "-")), 2) < 0, ABS(ROUND(VALUE(SUBSTITUTE(連結実質赤字比率に係る赤字・黒字の構成分析!I$36,"▲", "-")), 2)), NA()) -> #N/A | I34: =IF(ROUND(VALUE(SUBSTITUTE(連結実質赤字比率に係る赤字・黒字の構成分析!I$36,"▲", "-")), 2) >= 0, ABS(ROUND(VALUE(SUBSTITUTE(連結実質赤字比率に係る赤字・黒字の構成分析!I$36,"▲", "-")), 2)), NA()) -> 3.71 | J34: =IF(ROUND(VALUE(SUBSTITUTE(連結実質赤字比率に係る赤字・黒字の構成分析!J$36,"▲", "-")), 2) < 0, ABS(ROUND(VALUE(SUBSTITUTE(連結実質赤字比率に係る赤字・黒字の構成分析!J$36,"▲", "-")), 2)), NA()) -> #N/A | K34: =IF(ROUND(VALUE(SUBSTITUTE(連結実質赤字比率に係る赤字・黒字の構成分析!J$36,"▲", "-")), 2) >= 0, ABS(ROUND(VALUE(SUBSTITUTE(連結実質赤字比率に係る赤字・黒字の構成分析!J$36,"▲", "-")), 2)), NA()) -> 3.84
A35: =IF(連結実質赤字比率に係る赤字・黒字の構成分析!C$35="",NA(),連結実質赤字比率に係る赤字・黒字の構成分析!C$35) -> 病院事業会計 | B35: =IF(ROUND(VALUE(SUBSTITUTE(連結実質赤字比率に係る赤字・黒字の構成分析!F$35,"▲", "-")), 2) < 0, ABS(ROUND(VALUE(SUBSTITUTE(連結実質赤字比率に係る赤字・黒字の構成分析!F$35,"▲", "-")), 2)), NA()) -> #N/A | C35: =IF(ROUND(VALUE(SUBSTITUTE(連結実質赤字比率に係る赤字・黒字の構成分析!F$35,"▲", "-")), 2) >= 0, ABS(ROUND(VALUE(SUBSTITUTE(連結実質赤字比率に係る赤字・黒字の構成分析!F$35,"▲", "-")), 2)), NA()) -> 6.14 | D35: =IF(ROUND(VALUE(SUBSTITUTE(連結実質赤字比率に係る赤字・黒字の構成分析!G$35,"▲", "-")), 2) < 0, ABS(ROUND(VALUE(SUBSTITUTE(連結実質赤字比率に係る赤字・黒字の構成分析!G$35,"▲", "-")), 2)), NA()) -> #N/A | E35: =IF(ROUND(VALUE(SUBSTITUTE(連結実質赤字比率に係る赤字・黒字の構成分析!G$35,"▲", "-")), 2) >= 0, ABS(ROUND(VALUE(SUBSTITUTE(連結実質赤字比率に係る赤字・黒字の構成分析!G$35,"▲", "-")), 2)), NA()) -> 9.09 | F35: =IF(ROUND(VALUE(SUBSTITUTE(連結実質赤字比率に係る赤字・黒字の構成分析!H$35,"▲", "-")), 2) < 0, ABS(ROUND(VALUE(SUBSTITUTE(連結実質赤字比率に係る赤字・黒字の構成分析!H$35,"▲", "-")), 2)), NA()) -> #N/A | G35: =IF(ROUND(VALUE(SUBSTITUTE(連結実質赤字比率に係る赤字・黒字の構成分析!H$35,"▲", "-")), 2) >= 0, ABS(ROUND(VALUE(SUBSTITUTE(連結実質赤字比率に係る赤字・黒字の構成分析!H$35,"▲", "-")), 2)), NA()) -> 13.18 | H35: =IF(ROUND(VALUE(SUBSTITUTE(連結実質赤字比率に係る赤字・黒字の構成分析!I$35,"▲", "-")), 2) < 0, ABS(ROUND(VALUE(SUBSTITUTE(連結実質赤字比率に係る赤字・黒字の構成分析!I$35,"▲", "-")), 2)), NA()) -> #N/A | I35: =IF(ROUND(VALUE(SUBSTITUTE(連結実質赤字比率に係る赤字・黒字の構成分析!I$35,"▲", "-")), 2) >= 0, ABS(ROUND(VALUE(SUBSTITUTE(連結実質赤字比率に係る赤字・黒字の構成分析!I$35,"▲", "-")), 2)), NA()) -> 12.52 | J35: =IF(ROUND(VALUE(SUBSTITUTE(連結実質赤字比率に係る赤字・黒字の構成分析!J$35,"▲", "-")), 2) < 0, ABS(ROUND(VALUE(SUBSTITUTE(連結実質赤字比率に係る赤字・黒字の構成分析!J$35,"▲", "-")), 2)), NA()) -> #N/A | K35: =IF(ROUND(VALUE(SUBSTITUTE(連結実質赤字比率に係る赤字・黒字の構成分析!J$35,"▲", "-")), 2) >= 0, ABS(ROUND(VALUE(SUBSTITUTE(連結実質赤字比率に係る赤字・黒字の構成分析!J$35,"▲", "-")), 2)), NA()) -> 12.41
A36: =IF(連結実質赤字比率に係る赤字・黒字の構成分析!C$34="",NA(),連結実質赤字比率に係る赤字・黒字の構成分析!C$34) -> 一般会計 | B36: =IF(ROUND(VALUE(SUBSTITUTE(連結実質赤字比率に係る赤字・黒字の構成分析!F$34,"▲", "-")), 2) < 0, ABS(ROUND(VALUE(SUBSTITUTE(連結実質赤字比率に係る赤字・黒字の構成分析!F$34,"▲", "-")), 2)), NA()) -> #N/A | C36: =IF(ROUND(VALUE(SUBSTITUTE(連結実質赤字比率に係る赤字・黒字の構成分析!F$34,"▲", "-")), 2) >= 0, ABS(ROUND(VALUE(SUBSTITUTE(連結実質赤字比率に係る赤字・黒字の構成分析!F$34,"▲", "-")), 2)), NA()) -> 18.66 | D36: =IF(ROUND(VALUE(SUBSTITUTE(連結実質赤字比率に係る赤字・黒字の構成分析!G$34,"▲", "-")), 2) < 0, ABS(ROUND(VALUE(SUBSTITUTE(連結実質赤字比率に係る赤字・黒字の構成分析!G$34,"▲", "-")), 2)), NA()) -> #N/A | E36: =IF(ROUND(VALUE(SUBSTITUTE(連結実質赤字比率に係る赤字・黒字の構成分析!G$34,"▲", "-")), 2) >= 0, ABS(ROUND(VALUE(SUBSTITUTE(連結実質赤字比率に係る赤字・黒字の構成分析!G$34,"▲", "-")), 2)), NA()) -> 22.23 | F36: =IF(ROUND(VALUE(SUBSTITUTE(連結実質赤字比率に係る赤字・黒字の構成分析!H$34,"▲", "-")), 2) < 0, ABS(ROUND(VALUE(SUBSTITUTE(連結実質赤字比率に係る赤字・黒字の構成分析!H$34,"▲", "-")), 2)), NA()) -> #N/A | G36: =IF(ROUND(VALUE(SUBSTITUTE(連結実質赤字比率に係る赤字・黒字の構成分析!H$34,"▲", "-")), 2) >= 0, ABS(ROUND(VALUE(SUBSTITUTE(連結実質赤字比率に係る赤字・黒字の構成分析!H$34,"▲", "-")), 2)), NA()) -> 22.14 | H36: =IF(ROUND(VALUE(SUBSTITUTE(連結実質赤字比率に係る赤字・黒字の構成分析!I$34,"▲", "-")), 2) < 0, ABS(ROUND(VALUE(SUBSTITUTE(連結実質赤字比率に係る赤字・黒字の構成分析!I$34,"▲", "-")), 2)), NA()) -> #N/A | I36: =IF(ROUND(VALUE(SUBSTITUTE(連結実質赤字比率に係る赤字・黒字の構成分析!I$34,"▲", "-")), 2) >= 0, ABS(ROUND(VALUE(SUBSTITUTE(連結実質赤字比率に係る赤字・黒字の構成分析!I$34,"▲", "-")), 2)), NA()) -> 19.58 | J36: =IF(ROUND(VALUE(SUBSTITUTE(連結実質赤字比率に係る赤字・黒字の構成分析!J$34,"▲", "-")), 2) < 0, ABS(ROUND(VALUE(SUBSTITUTE(連結実質赤字比率に係る赤字・黒字の構成分析!J$34,"▲", "-")), 2)), NA()) -> #N/A | K36: =IF(ROUND(VALUE(SUBSTITUTE(連結実質赤字比率に係る赤字・黒字の構成分析!J$34,"▲", "-")), 2) >= 0, ABS(ROUND(VALUE(SUBSTITUTE(連結実質赤字比率に係る赤字・黒字の構成分析!J$34,"▲", "-")), 2)), NA()) -> 19.39
A39: 実質公債費比率（分子）の構造
B40: =#REF! -> #REF! | E40: =#REF! -> #REF! | H40: =#REF! -> #REF! | K40: =#REF! -> #REF! | N40: =#REF! -> #REF!
B41: 元利償還金等 | D41: 算入公債費等 | E41: 元利償還金等 | G41: 算入公債費等 | H41: 元利償還金等 | J41: 算入公債費等 | K41: 元利償還金等 | M41: 算入公債費等 | N41: 元利償還金等 | P41: 算入公債費等
A42: 算入公債費等 | D42: =#REF! -> #REF! | G42: =#REF! -> #REF! | J42: =#REF! -> #REF! | M42: =#REF! -> #REF! | P42: =#REF! -> #REF!
A43: 一時借入金の利子 | B43: =#REF! -> #REF! | E43: =#REF! -> #REF! | H43: =#REF! -> #REF! | K43: =#REF! -> #REF! | N43: =#REF! -> #REF!
A44: 債務負担行為に基づく支出額 | B44: =#REF! -> #REF! | E44: =#REF! -> #REF! | H44: =#REF! -> #REF! | K44: =#REF! -> #REF! | N44: =#REF! -> #REF!
A45: 組合等が起こした地方債の元利償還金に対する負担金等 | B45: =#REF! -> #REF! | E45: =#REF! -> #REF! | H45: =#REF! -> #REF! | K45: =#REF! -> #REF! | N45: =#REF! -> #REF!
A46: 公営企業債の元利償還金に対する繰入金 | B46: =#REF! -> #REF! | E46: =#REF! -> #REF! | H46: =#REF! -> #REF! | K46: =#REF! -> #REF! | N46: =#REF! -> #REF!
A47: 満期一括償還地方債に係る年度割相当額 | B47: =#REF! -> #REF! | E47: =#REF! -> #REF! | H47: =#REF! -> #REF! | K47: =#REF! -> #REF! | N47: =#REF! -> #REF!
...
